BEGIN:VCALENDAR
VERSION:2.0
PRODID:-//DanceSport Federation - ECPv6.15.7//NONSGML v1.0//EN
CALSCALE:GREGORIAN
METHOD:PUBLISH
X-ORIGINAL-URL:https://www.dancesportfederation.com
X-WR-CALDESC:Events for DanceSport Federation
REFRESH-INTERVAL;VALUE=DURATION:PT1H
X-Robots-Tag:noindex
X-PUBLISHED-TTL:PT1H
BEGIN:VTIMEZONE
TZID:UTC
BEGIN:STANDARD
TZOFFSETFROM:+0000
TZOFFSETTO:+0000
TZNAME:UTC
DTSTART:20210101T000000
END:STANDARD
END:VTIMEZONE
BEGIN:VEVENT
DTSTART;TZID=UTC:20240907T080000
DTEND;TZID=UTC:20240907T120000
DTSTAMP:20260419T234643
CREATED:20240111T211048Z
LAST-MODIFIED:20240111T211353Z
UID:8010-1725696000-1725710400@www.dancesportfederation.com
SUMMARY:2024 WDO World Professional Latin Championships
DESCRIPTION:Air Dance Christmas Ball
URL:https://www.dancesportfederation.com/event/wdo-world-professional-latin-championships/
LOCATION:Sofitel Victoria Hotel\, Królewska 11\, Warszawa\, 00-065\, Poland
CATEGORIES:Poland
ATTACH;FMTTYPE=image/png:https://www.dancesportfederation.com/wp-content/uploads/2024/01/WDO-World-Professional-Latin-Championships.png
ORGANIZER;CN="Dansinn by Malitowski":MAILTO:events@dansinn.pl
END:VEVENT
BEGIN:VEVENT
DTSTART;TZID=UTC:20231216T080000
DTEND;TZID=UTC:20231216T120000
DTSTAMP:20260419T234643
CREATED:20231216T090030Z
LAST-MODIFIED:20230329T111405Z
UID:7860-1702713600-1702728000@www.dancesportfederation.com
SUMMARY:WDO European Student/Teacher Ballroom and Latin Championships
DESCRIPTION:Air Dance Christmas Ball
URL:https://www.dancesportfederation.com/event/wdo-european-student-teacher-ballroom-and-latin-championships/
CATEGORIES:Poland
ATTACH;FMTTYPE=image/jpeg:https://www.dancesportfederation.com/wp-content/uploads/2023/12/air-dance.jpg
END:VEVENT
BEGIN:VEVENT
DTSTART;TZID=UTC:20230902T080000
DTEND;TZID=UTC:20230903T120000
DTSTAMP:20260419T234643
CREATED:20230902T090049Z
LAST-MODIFIED:20230328T124005Z
UID:7812-1693641600-1693742400@www.dancesportfederation.com
SUMMARY:WDO World Professional Showdance Ballroom & Latin
DESCRIPTION:Dansinn by Malitowski / Warsaw\, Poland
URL:https://www.dancesportfederation.com/event/wdo-world-professional-showdance-ballroom-latin/
CATEGORIES:Poland
ATTACH;FMTTYPE=image/jpeg:https://www.dancesportfederation.com/wp-content/uploads/2023/04/Dansinn-by-Malitowski.jpg
END:VEVENT
BEGIN:VEVENT
DTSTART;TZID=UTC:20230617T000000
DTEND;TZID=UTC:20230718T235959
DTSTAMP:20260419T234643
CREATED:20230617T090040Z
LAST-MODIFIED:20230328T122214Z
UID:7797-1686960000-1689724799@www.dancesportfederation.com
SUMMARY:WDO European Youth Ballroom and Latin U21
DESCRIPTION:WDO European Professional Latin
URL:https://www.dancesportfederation.com/event/wdo-european-youth-ballroom-and-latin-u21/
CATEGORIES:Poland
ATTACH;FMTTYPE=image/jpeg:https://www.dancesportfederation.com/wp-content/uploads/2023/06/Polish-Dance-Association.jpg
ORGANIZER;CN="Polish Dance Association":MAILTO:ptt@taniec.pl
END:VEVENT
BEGIN:VEVENT
DTSTART;TZID=UTC:20230617T000000
DTEND;TZID=UTC:20230718T235959
DTSTAMP:20260419T234643
CREATED:20230617T090037Z
LAST-MODIFIED:20230328T122556Z
UID:7803-1686960000-1689724799@www.dancesportfederation.com
SUMMARY:Ice Arena Cup
DESCRIPTION:Ice Arena Cup
URL:https://www.dancesportfederation.com/event/ice-arena-cup/
CATEGORIES:Poland
ATTACH;FMTTYPE=image/jpeg:https://www.dancesportfederation.com/wp-content/uploads/2023/06/Polish-Dance-Association.jpg
ORGANIZER;CN="Polish Dance Association":MAILTO:ptt@taniec.pl
END:VEVENT
BEGIN:VEVENT
DTSTART;TZID=UTC:20230617T000000
DTEND;TZID=UTC:20230718T235959
DTSTAMP:20260419T234643
CREATED:20230617T090028Z
LAST-MODIFIED:20230328T122345Z
UID:7800-1686960000-1689724799@www.dancesportfederation.com
SUMMARY:WDO European Youth Ballroom and Latin U19
DESCRIPTION:WDO European Youth Ballroom and Latin U19
URL:https://www.dancesportfederation.com/event/wdo-european-youth-ballroom-and-latin-u19/
CATEGORIES:Poland
ATTACH;FMTTYPE=image/jpeg:https://www.dancesportfederation.com/wp-content/uploads/2023/06/Polish-Dance-Association.jpg
ORGANIZER;CN="Polish Dance Association":MAILTO:ptt@taniec.pl
END:VEVENT
BEGIN:VEVENT
DTSTART;TZID=UTC:20230617T000000
DTEND;TZID=UTC:20230718T235959
DTSTAMP:20260419T234643
CREATED:20230617T090014Z
LAST-MODIFIED:20230328T121839Z
UID:7792-1686960000-1689724799@www.dancesportfederation.com
SUMMARY:WDO European Professional Latin
DESCRIPTION:WDO European Professional Latin
URL:https://www.dancesportfederation.com/event/wdo-european-professional-latin/
CATEGORIES:Poland
ATTACH;FMTTYPE=image/jpeg:https://www.dancesportfederation.com/wp-content/uploads/2023/06/Polish-Dance-Association.jpg
ORGANIZER;CN="Polish Dance Association":MAILTO:ptt@taniec.pl
END:VEVENT
BEGIN:VEVENT
DTSTART;TZID=UTC:20230420T080000
DTEND;TZID=UTC:20230420T120000
DTSTAMP:20260419T234643
CREATED:20230422T090011Z
LAST-MODIFIED:20230327T123151Z
UID:7757-1681977600-1681992000@www.dancesportfederation.com
SUMMARY:WDO Student/Teacher Ballroom & Latin World Championships
DESCRIPTION:Dansinn by Malitowski
URL:https://www.dancesportfederation.com/event/wdo-student-teacher-ballroom-latin-world-championships/
CATEGORIES:Poland
ATTACH;FMTTYPE=image/jpeg:https://www.dancesportfederation.com/wp-content/uploads/2023/04/Dansinn-by-Malitowski.jpg
END:VEVENT
BEGIN:VEVENT
DTSTART;TZID=UTC:20221217T000000
DTEND;TZID=UTC:20221218T235959
DTSTAMP:20260419T234643
CREATED:20220419T202017Z
LAST-MODIFIED:20220419T202640Z
UID:7236-1671235200-1671407999@www.dancesportfederation.com
SUMMARY:WDO World Amateur Ballroom Championship
DESCRIPTION:AirDance Christmas Ball
URL:https://www.dancesportfederation.com/event/wdo-world-amateur-ballroom-championship__trashed/
CATEGORIES:Poland
ATTACH;FMTTYPE=image/jpeg:https://www.dancesportfederation.com/wp-content/uploads/2022/04/AirDance-Christmas-Ball.jpg
END:VEVENT
BEGIN:VEVENT
DTSTART;TZID=UTC:20221015T000000
DTEND;TZID=UTC:20221016T235959
DTSTAMP:20260419T234643
CREATED:20220822T222357Z
LAST-MODIFIED:20220822T222429Z
UID:7661-1665792000-1665964799@www.dancesportfederation.com
SUMMARY:WDO 2022 European Amateur Latin Championship
DESCRIPTION:
URL:https://www.dancesportfederation.com/event/wdo-2022-european-amateur-latin-championship/
CATEGORIES:Poland
ATTACH;FMTTYPE=image/jpeg:https://www.dancesportfederation.com/wp-content/uploads/2022/08/holder.jpg
ORGANIZER;CN="Polish Dance Association":MAILTO:ptt@taniec.pl
END:VEVENT
BEGIN:VEVENT
DTSTART;TZID=UTC:20221015T000000
DTEND;TZID=UTC:20221016T235959
DTSTAMP:20260419T234643
CREATED:20220822T221800Z
LAST-MODIFIED:20220822T222259Z
UID:7657-1665792000-1665964799@www.dancesportfederation.com
SUMMARY:WDO 2022 European Amateur Ballroom Championship
DESCRIPTION:
URL:https://www.dancesportfederation.com/event/wdo-2022-european-amateur-ballroom-championship/
CATEGORIES:Poland
ATTACH;FMTTYPE=image/jpeg:https://www.dancesportfederation.com/wp-content/uploads/2022/08/holder.jpg
ORGANIZER;CN="Polish Dance Association":MAILTO:ptt@taniec.pl
END:VEVENT
BEGIN:VEVENT
DTSTART;TZID=UTC:20220917T090000
DTEND;TZID=UTC:20220917T090000
DTSTAMP:20260419T234643
CREATED:20220822T220848Z
LAST-MODIFIED:20220822T220933Z
UID:7649-1663405200-1663405200@www.dancesportfederation.com
SUMMARY:Warsaw International Dance Championships
DESCRIPTION:
URL:https://www.dancesportfederation.com/event/warsaw-international-dance-championships/
LOCATION:DoubleTree by Hilton Hotel\, Skalnicowa 21\, Warszawa\, 04-797\, Poland
CATEGORIES:Poland
ATTACH;FMTTYPE=image/jpeg:https://www.dancesportfederation.com/wp-content/uploads/2022/08/Dansinn-by-Malitowski.jpg
ORGANIZER;CN="Dansinn by Malitowski":MAILTO:events@dansinn.pl
END:VEVENT
BEGIN:VEVENT
DTSTART;TZID=UTC:20220917T090000
DTEND;TZID=UTC:20220917T090000
DTSTAMP:20260419T234643
CREATED:20220822T215954Z
LAST-MODIFIED:20220822T220736Z
UID:7642-1663405200-1663405200@www.dancesportfederation.com
SUMMARY:WDO 2022 Amateur Latin Championships
DESCRIPTION:
URL:https://www.dancesportfederation.com/event/wdo-2022-amateur-latin-championships/
LOCATION:DoubleTree by Hilton Hotel\, Skalnicowa 21\, Warszawa\, 04-797\, Poland
CATEGORIES:Poland
ATTACH;FMTTYPE=image/jpeg:https://www.dancesportfederation.com/wp-content/uploads/2022/08/Dansinn-by-Malitowski.jpg
ORGANIZER;CN="Dansinn by Malitowski":MAILTO:events@dansinn.pl
END:VEVENT
END:VCALENDAR