BEGIN:VCALENDAR
VERSION:2.0
PRODID:-//DanceSport Federation - ECPv6.15.7//NONSGML v1.0//EN
CALSCALE:GREGORIAN
METHOD:PUBLISH
X-ORIGINAL-URL:https://www.dancesportfederation.com
X-WR-CALDESC:Events for DanceSport Federation
REFRESH-INTERVAL;VALUE=DURATION:PT1H
X-Robots-Tag:noindex
X-PUBLISHED-TTL:PT1H
BEGIN:VTIMEZONE
TZID:UTC
BEGIN:STANDARD
TZOFFSETFROM:+0000
TZOFFSETTO:+0000
TZNAME:UTC
DTSTART:20210101T000000
END:STANDARD
END:VTIMEZONE
BEGIN:VEVENT
DTSTART;TZID=UTC:20221105T000000
DTEND;TZID=UTC:20221106T235959
DTSTAMP:20260419T204911
CREATED:20220418T092957Z
LAST-MODIFIED:20220419T194003Z
UID:7058-1667606400-1667779199@www.dancesportfederation.com
SUMMARY:WDO World Junior U16 Latin Championship
DESCRIPTION:Kazakhstan International Championships
URL:https://www.dancesportfederation.com/event/wdo-world-junior-u16-latin-championship/
LOCATION:Hilton Astana\, Sauran St 46\, Nur-Sultan 010000\, Kazakhstan
CATEGORIES:Kazakhstan
ATTACH;FMTTYPE=image/jpeg:https://www.dancesportfederation.com/wp-content/uploads/2022/04/hilton-astana.jpg
ORGANIZER;CN="Dmitriy Starikov":MAILTO:ayterekcup@gmail.com
END:VEVENT
BEGIN:VEVENT
DTSTART;TZID=UTC:20220618T000000
DTEND;TZID=UTC:20220619T235959
DTSTAMP:20260419T204911
CREATED:20220418T101709Z
LAST-MODIFIED:20220421T181107Z
UID:7074-1655510400-1655683199@www.dancesportfederation.com
SUMMARY:WDO World Junior 10 Dance Championship
DESCRIPTION:Kazakhstan International Championships
URL:https://www.dancesportfederation.com/event/wdo-world-junior-10-dance-championship/
LOCATION:Hilton Astana\, Sauran St 46\, Nur-Sultan 010000\, Kazakhstan
CATEGORIES:Kazakhstan
ATTACH;FMTTYPE=image/jpeg:https://www.dancesportfederation.com/wp-content/uploads/2022/04/hilton-astana.jpg
ORGANIZER;CN="Dmitriy Starikov":MAILTO:ayterekcup@gmail.com
END:VEVENT
BEGIN:VEVENT
DTSTART;TZID=UTC:20220618T000000
DTEND;TZID=UTC:20220619T235959
DTSTAMP:20260419T204911
CREATED:20220418T100100Z
LAST-MODIFIED:20220419T190756Z
UID:7071-1655510400-1655683199@www.dancesportfederation.com
SUMMARY:WDO World Junior U14 Championship
DESCRIPTION:Kazakhstan International Championships
URL:https://www.dancesportfederation.com/event/wdo-world-junior-u14-championship/
LOCATION:Hilton Astana\, Sauran St 46\, Nur-Sultan 010000\, Kazakhstan
CATEGORIES:Kazakhstan
ATTACH;FMTTYPE=image/jpeg:https://www.dancesportfederation.com/wp-content/uploads/2022/04/hilton-astana.jpg
ORGANIZER;CN="Dmitriy Starikov":MAILTO:ayterekcup@gmail.com
END:VEVENT
END:VCALENDAR