BEGIN:VCALENDAR
VERSION:2.0
PRODID:-//DanceSport Federation - ECPv6.15.7//NONSGML v1.0//EN
CALSCALE:GREGORIAN
METHOD:PUBLISH
X-ORIGINAL-URL:https://www.dancesportfederation.com
X-WR-CALDESC:Events for DanceSport Federation
REFRESH-INTERVAL;VALUE=DURATION:PT1H
X-Robots-Tag:noindex
X-PUBLISHED-TTL:PT1H
BEGIN:VTIMEZONE
TZID:UTC
BEGIN:STANDARD
TZOFFSETFROM:+0000
TZOFFSETTO:+0000
TZNAME:UTC
DTSTART:20210101T000000
END:STANDARD
END:VTIMEZONE
BEGIN:VEVENT
DTSTART;TZID=UTC:20240215T080000
DTEND;TZID=UTC:20240215T120000
DTSTAMP:20260419T145815
CREATED:20240111T180434Z
LAST-MODIFIED:20240111T190949Z
UID:7933-1707984000-1707998400@www.dancesportfederation.com
SUMMARY:2024 WDO World Youth U21 Ballroom Championships
DESCRIPTION:Freiburg\, Germany
URL:https://www.dancesportfederation.com/event/wdo-world-youth-u21-ballroom-championships/
CATEGORIES:Germany
ATTACH;FMTTYPE=image/jpeg:https://www.dancesportfederation.com/wp-content/uploads/2023/11/Winter-Gardens.jpg
END:VEVENT
BEGIN:VEVENT
DTSTART;TZID=UTC:20231104T080000
DTEND;TZID=UTC:20231105T120000
DTSTAMP:20260419T145815
CREATED:20231104T090042Z
LAST-MODIFIED:20230328T130739Z
UID:7839-1699084800-1699185600@www.dancesportfederation.com
SUMMARY:WDO World Junior Latin U14 Championship
DESCRIPTION:Berlin Germany / Winter Gardens Dance Festival
URL:https://www.dancesportfederation.com/event/wdo-world-junior-latin-u14-championship/
CATEGORIES:Germany
ATTACH;FMTTYPE=image/jpeg:https://www.dancesportfederation.com/wp-content/uploads/2023/11/Winter-Gardens.jpg
END:VEVENT
BEGIN:VEVENT
DTSTART;TZID=UTC:20230902T080000
DTEND;TZID=UTC:20230902T120000
DTSTAMP:20260419T145815
CREATED:20230902T090024Z
LAST-MODIFIED:20230328T124647Z
UID:7815-1693641600-1693656000@www.dancesportfederation.com
SUMMARY:WDO European Juvenile Under 12 Ballroom and Latin Championships
DESCRIPTION:Dansinn by Malitowski / Warsaw\, Poland
URL:https://www.dancesportfederation.com/event/wdo-european-juvenile-under-12-ballroom-and-latin-championships/
CATEGORIES:Germany
ATTACH;FMTTYPE=image/jpeg:https://www.dancesportfederation.com/wp-content/uploads/2023/09/germany.jpg
END:VEVENT
BEGIN:VEVENT
DTSTART;TZID=UTC:20221101T000000
DTEND;TZID=UTC:20221101T235959
DTSTAMP:20260419T145815
CREATED:20220418T094007Z
LAST-MODIFIED:20220419T201151Z
UID:7060-1667260800-1667347199@www.dancesportfederation.com
SUMMARY:WDO World Am/Pro Ballroom Championships
DESCRIPTION:
URL:https://www.dancesportfederation.com/event/wdo-world-am-pro-ballroom-championships/
CATEGORIES:Germany
ATTACH;FMTTYPE=image/jpeg:https://www.dancesportfederation.com/wp-content/uploads/2022/04/bonn-germany.jpg
END:VEVENT
END:VCALENDAR